BEGIN:VCALENDAR
VERSION:2.0
PRODID:-//ChamberMaster//Event Calendar 2.0//EN
METHOD:PUBLISH
X-PUBLISHED-TTL:P3D
REFRESH-INTERVAL:P3D
CALSCALE:GREGORIAN
BEGIN:VEVENT
DTSTART:20130102T190000Z
DTEND:20130102T200000Z
X-MICROSOFT-CDO-ALLDAYEVENT:FALSE
SUMMARY:Ribbon Cutting
DESCRIPTION:RIBBON CUTTING\n\nHomebodies.\n\n1 North Main Street\, Tooele\n\n12:00 Noon
X-ALT-DESC;FMTTYPE=text/html:<span style="font-size: 16px"><strong><u><span style="color: #800080">RIBBON CUTTING</span></u></strong><br />\nHomebodies.<br />\n1 North Main Street\, Tooele<br />\n12:00 Noon</span>
LOCATION:
UID:e.125.4956
SEQUENCE:3
DTSTAMP:20260420T233204Z
URL:https://members.tooelechamber.com/events/details/ribbon-cutting-01-02-2013-4956
END:VEVENT

END:VCALENDAR
