BEGIN:VCALENDAR
VERSION:2.0
PRODID:-//ChamberMaster//Event Calendar 2.0//EN
METHOD:PUBLISH
X-PUBLISHED-TTL:P3D
REFRESH-INTERVAL:P3D
CALSCALE:GREGORIAN
BEGIN:VEVENT
DTSTART:20090114T190000Z
DTEND:20090114T200000Z
X-MICROSOFT-CDO-ALLDAYEVENT:FALSE
SUMMARY:Ribbon Cutting
DESCRIPTION:Wednesday\, January 14th\n 12 pm\n D&J Ad-Vantage Embroidery\n 42 East 400 North\, Tooele
X-ALT-DESC;FMTTYPE=text/html:<p align="center"><strong><font size="4">&nbsp\;</font></strong><font face="Arial" size="4"><strong>Wednesday\, January 14th<br />&nbsp\;12 pm<br />&nbsp\;D&amp\;J Ad-Vantage Embroidery<br />&nbsp\;42 East 400 North\, Tooele</strong></font></p>
LOCATION:
UID:e.125.511
SEQUENCE:3
DTSTAMP:20260424T070407Z
URL:https://members.tooelechamber.com/events/details/ribbon-cutting-01-14-2009-511
END:VEVENT

END:VCALENDAR
