BEGIN:VCALENDAR
VERSION:2.0
PRODID:-//ChamberMaster//Event Calendar 2.0//EN
METHOD:PUBLISH
X-PUBLISHED-TTL:P3D
REFRESH-INTERVAL:P3D
CALSCALE:GREGORIAN
BEGIN:VEVENT
DTSTART:20130118T190000Z
DTEND:20130118T200000Z
X-MICROSOFT-CDO-ALLDAYEVENT:FALSE
SUMMARY:Ribbon Cutting
DESCRIPTION:Ribbon Cutting \n\nFriday\, January 18th\, 2013\n\nDidericksen Memorial\,\n\n87 West Main Street\n\nGrantsville\n\nGrGra \, \, \,
X-ALT-DESC;FMTTYPE=text/html:<span style="color: #b22222"><span style="font-family: courier new"><span style="font-size: 22px"><u><strong>Ribbon Cutting </strong></u><br />\nFriday\, January 18th\, 2013<br />\nDidericksen&nbsp\;Memorial\,<br />\n87 West Main Street<br />\nGrantsville</span></span></span><br />\n<span _fck_bookmark="1" style="display: none">GrGra&nbsp\;\, \, \,&nbsp\;&nbsp\;&nbsp\;&nbsp\;&nbsp\;&nbsp\;&nbsp\;&nbsp\;&nbsp\;&nbsp\;&nbsp\;&nbsp\;&nbsp\;&nbsp\;&nbsp\;&nbsp\;&nbsp\;&nbsp\;&nbsp\;&nbsp\;&nbsp\;&nbsp\; </span><span _fck_bookmark="1" style="display: none">&nbsp\;</span>
LOCATION:
UID:e.125.4988
SEQUENCE:3
DTSTAMP:20260420T233206Z
URL:https://members.tooelechamber.com/events/details/ribbon-cutting-01-18-2013-4988
END:VEVENT

END:VCALENDAR
