BEGIN:VCALENDAR
VERSION:2.0
PRODID:-//ChamberMaster//Event Calendar 2.0//EN
METHOD:PUBLISH
X-PUBLISHED-TTL:P3D
REFRESH-INTERVAL:P3D
CALSCALE:GREGORIAN
BEGIN:VEVENT
DTSTART:20110119T180000Z
DTEND:20110119T190000Z
X-MICROSOFT-CDO-ALLDAYEVENT:FALSE
SUMMARY:Ribbon Cutting
DESCRIPTION:Ribbon Cutting\n\n	Cafe Rio Grand Opening\n\n	1205 North Main Street\, Tooele\n\n	Wednesday\, January 19\, 2011 @ 11am
X-ALT-DESC;FMTTYPE=text/html:<p style="text-align: center">\n	<span style="font-size: 24px"><u><strong>Ribbon Cutting</strong></u><br />\n	Cafe Rio Grand Opening<br />\n	1205 North Main Street\, Tooele<br />\n	Wednesday\, January 19\, 2011 @ 11am</span></p>\n
LOCATION:
UID:e.125.3605
SEQUENCE:3
DTSTAMP:20260422T170532Z
URL:https://members.tooelechamber.com/events/details/ribbon-cutting-01-19-2011-3605
END:VEVENT

END:VCALENDAR
