BEGIN:VCALENDAR
VERSION:2.0
PRODID:-//ChamberMaster//Event Calendar 2.0//EN
METHOD:PUBLISH
X-PUBLISHED-TTL:P3D
REFRESH-INTERVAL:P3D
CALSCALE:GREGORIAN
BEGIN:VEVENT
DTSTART:20120125T190000Z
DTEND:20120125T193000Z
X-MICROSOFT-CDO-ALLDAYEVENT:FALSE
SUMMARY:Ribbon Cutting
DESCRIPTION:Ribbon Cutting\n\n	January 25th\, 2012\n\n	Dollar Cuts\n\n	1351 North Main Street\n\n	Tooele @ 12 noon
X-ALT-DESC;FMTTYPE=text/html:<p style="text-align: center">\n	<span style="font-size: 28px"><strong>Ribbon Cutting<br />\n	<span style="font-size: 22px">January 25th\, 2012</span><br />\n	Dollar Cuts<br />\n	1351 North Main Street<br />\n	Tooele @ 12 noon</strong></span></p>\n
LOCATION:
UID:e.125.3953
SEQUENCE:3
DTSTAMP:20260421T203025Z
URL:https://members.tooelechamber.com/events/details/ribbon-cutting-01-25-2012-3953
END:VEVENT

END:VCALENDAR
