BEGIN:VCALENDAR
VERSION:2.0
PRODID:-//ChamberMaster//Event Calendar 2.0//EN
METHOD:PUBLISH
X-PUBLISHED-TTL:P3D
REFRESH-INTERVAL:P3D
CALSCALE:GREGORIAN
BEGIN:VEVENT
DTSTART:20120221T190000Z
DTEND:20120221T193000Z
X-MICROSOFT-CDO-ALLDAYEVENT:FALSE
SUMMARY:Ribbon Cutting
DESCRIPTION:Ribbon Cutting\n\nTuesday Feb. 21 @ 12 noon\n\nLock Smitty's Mobile Lock Shop\n\nin the Home Town Hardware\n\n40 West Commercial Ave.\n\nGrantsville
X-ALT-DESC;FMTTYPE=text/html:<span style="font-size: 20px"><strong>Ribbon Cutting<br />\nTuesday Feb. 21 @ 12 noon<br />\nLock Smitty&#39\;s Mobile Lock Shop<br />\nin the Home Town Hardware<br />\n40 West Commercial Ave.<br />\nGrantsville</strong></span>
LOCATION:
UID:e.125.4803
SEQUENCE:3
DTSTAMP:20260421T185649Z
URL:https://members.tooelechamber.com/events/details/ribbon-cutting-02-21-2012-4803
END:VEVENT

END:VCALENDAR
