BEGIN:VCALENDAR
VERSION:2.0
PRODID:-//ChamberMaster//Event Calendar 2.0//EN
METHOD:PUBLISH
X-PUBLISHED-TTL:P3D
REFRESH-INTERVAL:P3D
CALSCALE:GREGORIAN
BEGIN:VEVENT
DTSTART:20120308T190000Z
DTEND:20120308T193000Z
X-MICROSOFT-CDO-ALLDAYEVENT:FALSE
SUMMARY:Ribbon Cutting
DESCRIPTION:Ribbon Cutting\n\nHometown Plumbing\n\nThursday March 8\, 2012\n\n12 Noon @ 154 South Main St.\n\nChamber Building
X-ALT-DESC;FMTTYPE=text/html:<span style="font-size: 26px"><strong><u>Ribbon Cutting</u></strong><br />\nHometown Plumbing<br />\nThursday March 8\, 2012<br />\n12 Noon @ 154 South Main St.<br />\nChamber Building</span>
LOCATION:
UID:e.125.4807
SEQUENCE:3
DTSTAMP:20260421T185801Z
URL:https://members.tooelechamber.com/events/details/ribbon-cutting-03-08-2012-4807
END:VEVENT

END:VCALENDAR
