BEGIN:VCALENDAR
VERSION:2.0
PRODID:-//ChamberMaster//Event Calendar 2.0//EN
METHOD:PUBLISH
X-PUBLISHED-TTL:P3D
REFRESH-INTERVAL:P3D
CALSCALE:GREGORIAN
BEGIN:VEVENT
DTSTART:20110311T190000Z
DTEND:20110311T200000Z
X-MICROSOFT-CDO-ALLDAYEVENT:FALSE
SUMMARY:Ribbon Cutting
DESCRIPTION:Ribbon Cutting \n\n	Oquirrh Mountain Eye Care\n\n	Friday\, March 11\, 2011 @ Noon\n\n	1244 North Main Street\, Tooele
X-ALT-DESC;FMTTYPE=text/html:<p style="text-align: center">\n	<span style="font-size: 20px"><u><strong>Ribbon Cutting </strong></u><br />\n	Oquirrh Mountain Eye Care<br />\n	Friday\, March 11\, 2011 @ Noon<br />\n	1244 North Main Street\, Tooele </span></p>\n
LOCATION:
UID:e.125.3620
SEQUENCE:3
DTSTAMP:20260422T121705Z
URL:https://members.tooelechamber.com/events/details/ribbon-cutting-03-11-2011-3620
END:VEVENT

END:VCALENDAR
