BEGIN:VCALENDAR
VERSION:2.0
PRODID:-//ChamberMaster//Event Calendar 2.0//EN
METHOD:PUBLISH
X-PUBLISHED-TTL:P3D
REFRESH-INTERVAL:P3D
CALSCALE:GREGORIAN
BEGIN:VEVENT
DTSTART:20100324T000000Z
DTEND:20100324T010000Z
X-MICROSOFT-CDO-ALLDAYEVENT:FALSE
SUMMARY:Ribbon Cutting
DESCRIPTION:Ribbon CuttingFor Tip Top Computers' New Location!!Tuesday March 23\, 2010 @ 6:00pm22 West Vine St.\, Tooele
X-ALT-DESC;FMTTYPE=text/html:<div style="text-align: center"><span style="font-size: x-large"><span style="font-family: Tahoma"><u><strong>Ribbon Cutting</strong></u></span></span></div><div style="text-align: center"><span style="font-family: Tahoma"><span style="font-size: medium">For Tip Top Computers&rsquo\; New Location!!</span></span></div><div style="text-align: center"><span style="font-family: Tahoma"><span style="font-size: medium">Tuesday March 23\, 2010 @ 6:00pm</span></span></div><div style="text-align: center"><span style="font-family: Tahoma"><span style="font-size: medium">22 West Vine St.\, Tooele</span></span></div>
LOCATION:
UID:e.125.3119
SEQUENCE:3
DTSTAMP:20260423T080130Z
URL:https://members.tooelechamber.com/events/details/ribbon-cutting-03-23-2010-3119
END:VEVENT

END:VCALENDAR
