BEGIN:VCALENDAR
VERSION:2.0
PRODID:-//ChamberMaster//Event Calendar 2.0//EN
METHOD:PUBLISH
X-PUBLISHED-TTL:P3D
REFRESH-INTERVAL:P3D
CALSCALE:GREGORIAN
BEGIN:VEVENT
DTSTART:20100323T180000Z
DTEND:20100323T190000Z
X-MICROSOFT-CDO-ALLDAYEVENT:FALSE
SUMMARY:Ribbon Cutting
DESCRIPTION:Ribbon Cutting for Quality Automotive's new Quick Lane Tuesday March 23\, 2010 @ 12pm1141 North Main St.\,Tooele  Quality Automotive in Tooele is pleased to announce the opening of their new Quick Lane located at: 1141 North Main. This Quick Lane will provide all the services your vehicle needs most\; oil changes\, tires\, brakes\, alignments and more! All with no appointment necessary and performed by factory trained Technicians. We service all makes and models and we are proud of our competitive pricing. Come check us out and take advantage of our grand opening specials!
X-ALT-DESC;FMTTYPE=text/html:<div><p class="MsoNormal" style="margin: 0in 0in 0pt"><o:p><font size="3" face="Times New Roman">&nbsp\;</font></o:p></p><p class="MsoNormal" style="text-align: center\; margin: 0in 0in 0pt"><span style="font-size: x-large"><u><strong><font face="Times New Roman">Ribbon Cutting </font></strong></u></span></p><p class="MsoNormal" style="text-align: center\; margin: 0in 0in 0pt"><span style="font-size: medium"><font face="Times New Roman">for Quality Automotive's new Quick Lane </font></span></p><p class="MsoNormal" style="text-align: center\; margin: 0in 0in 0pt"><span style="font-size: medium"><font face="Times New Roman">Tuesday March 23\, 2010 @ 12pm</font></span></p><p class="MsoNormal" style="text-align: center\; margin: 0in 0in 0pt"><span style="font-size: medium"><font face="Times New Roman">1141 North Main St.\,Tooele </font></span></p><p class="MsoNormal" style="text-align: center\; margin: 0in 0in 0pt">&nbsp\;</p><p class="MsoNormal" style="text-align: center\; margin: 0in 0in 0pt"><span style="font-size: medium"><font face="Times New Roman">Quality Automotive in Tooele is pleased to announce the opening of their new Quick Lane located at: 1141 North Main. This Quick Lane will provide all the services your vehicle needs most\; oil changes\, tires\, brakes\, alignments and more! All with no appointment necessary and performed by factory trained Technicians. We service all makes and models and we are proud of our competitive pricing. Come check us out and take advantage of our grand opening specials! </font></span></p></div>
LOCATION:
UID:e.125.3121
SEQUENCE:3
DTSTAMP:20260423T092030Z
URL:https://members.tooelechamber.com/events/details/ribbon-cutting-03-23-2010-3121
END:VEVENT

END:VCALENDAR
