BEGIN:VCALENDAR
VERSION:2.0
PRODID:-//ChamberMaster//Event Calendar 2.0//EN
METHOD:PUBLISH
X-PUBLISHED-TTL:P3D
REFRESH-INTERVAL:P3D
CALSCALE:GREGORIAN
BEGIN:VEVENT
DTSTART:20080328T000000Z
DTEND:20080328T000000Z
X-MICROSOFT-CDO-ALLDAYEVENT:FALSE
SUMMARY:Ribbon Cutting
DESCRIPTION:Tooele County Board of Realtors Ribbon Cutting
X-ALT-DESC;FMTTYPE=text/html:<div>Tooele County Board of Realtors Ribbon Cutting</div>
LOCATION:36 North Main # 7\, Tooele
UID:e.125.253
SEQUENCE:3
DTSTAMP:20260424T232018Z
URL:https://members.tooelechamber.com/events/details/ribbon-cutting-03-27-2008-253
END:VEVENT

END:VCALENDAR
