BEGIN:VCALENDAR
VERSION:2.0
PRODID:-//ChamberMaster//Event Calendar 2.0//EN
METHOD:PUBLISH
X-PUBLISHED-TTL:P3D
REFRESH-INTERVAL:P3D
CALSCALE:GREGORIAN
BEGIN:VEVENT
DTSTART:20120329T180000Z
DTEND:20120329T183000Z
X-MICROSOFT-CDO-ALLDAYEVENT:FALSE
SUMMARY:Ribbon Cutting
DESCRIPTION:Ribbon Cutting\n\nMy Best Friends Closet\n\nThursday March 22\, 2012\n\n12 Noon @ 134 West 1180 North Suite #10
X-ALT-DESC;FMTTYPE=text/html:<span style="font-size: 26px"><u><strong>Ribbon Cutting</strong></u><br />\nMy Best Friends Closet<br />\nThursday March 22\, 2012<br />\n12 Noon @&nbsp\;134 West 1180 North Suite #10</span><br />\n
LOCATION:
UID:e.125.4808
SEQUENCE:3
DTSTAMP:20260421T185649Z
URL:https://members.tooelechamber.com/events/details/ribbon-cutting-03-29-2012-4808
END:VEVENT

END:VCALENDAR
