BEGIN:VCALENDAR
VERSION:2.0
PRODID:-//ChamberMaster//Event Calendar 2.0//EN
METHOD:PUBLISH
X-PUBLISHED-TTL:P3D
REFRESH-INTERVAL:P3D
CALSCALE:GREGORIAN
BEGIN:VEVENT
DTSTART:20130403T180000Z
DTEND:20130403T190000Z
X-MICROSOFT-CDO-ALLDAYEVENT:FALSE
SUMMARY:RIBBON CUTTING
DESCRIPTION:Ribbon Cutting\n\n	Wednesday\, April 3rd\, 2013\n\n	12:00 Noon\n\n	Wells Cutting Edge\n\n	154 South main Street
X-ALT-DESC;FMTTYPE=text/html:<div style="color: gray">\n	<span style="font-size: 18px"><span style="color: #ff0000"><strong><u>Ribbon Cutting</u></strong></span><br />\n	<font color="#808080"><strong>Wednesday\, April 3rd\, 2013<br />\n	12:00 Noon</strong></font><br />\n	<span style="color: #ff0000"><strong><u>Wells Cutting Edge</u></strong></span><br />\n	<font color="#808080"><strong>154 South main Street&nbsp\;&nbsp\;</strong>&nbsp\;&nbsp\;</font></span></div>\n
LOCATION:
UID:e.125.5025
SEQUENCE:3
DTSTAMP:20260420T195739Z
URL:https://members.tooelechamber.com/events/details/ribbon-cutting-04-03-2013-5025
END:VEVENT

END:VCALENDAR
