BEGIN:VCALENDAR
VERSION:2.0
PRODID:-//ChamberMaster//Event Calendar 2.0//EN
METHOD:PUBLISH
X-PUBLISHED-TTL:P3D
REFRESH-INTERVAL:P3D
CALSCALE:GREGORIAN
BEGIN:VEVENT
DTSTART:20130406T180000Z
DTEND:20130406T190000Z
X-MICROSOFT-CDO-ALLDAYEVENT:FALSE
SUMMARY:Ribbon Cutting
DESCRIPTION:RIBBON CUTTING\n\n	Saturday\, April 6\, 2013\n\n	12 Noon\n\n	The Coffee Shoppe\n\n	Britni Harris\n\n	Guy Pannunzio\n\n	832 North Main Street\, Tooele\n\n	(in the parking lot at Cal Ranch)
X-ALT-DESC;FMTTYPE=text/html:<div style="color: gray">\n	<span style="font-size: 18px"><span style="color: #800080"><span style="font-family: arial\, sans-serif"><strong><u>RIBBON CUTTING</u></strong><br />\n	Saturday\, April 6\, 2013<br />\n	12 Noon<br />\n	<strong><u>The Coffee Shoppe</u></strong><br />\n	Britni Harris<br />\n	Guy Pannunzio<br />\n	832 North Main Street\, Tooele<br />\n	(in the parking lot at Cal Ranch)</span></span></span></div>\n
LOCATION:
UID:e.125.5027
SEQUENCE:3
DTSTAMP:20260420T181241Z
URL:https://members.tooelechamber.com/events/details/ribbon-cutting-04-06-2013-5027
END:VEVENT

END:VCALENDAR
