BEGIN:VCALENDAR
VERSION:2.0
PRODID:-//ChamberMaster//Event Calendar 2.0//EN
METHOD:PUBLISH
X-PUBLISHED-TTL:P3D
REFRESH-INTERVAL:P3D
CALSCALE:GREGORIAN
BEGIN:VEVENT
DTSTART:20100409T180000Z
DTEND:20100409T190000Z
X-MICROSOFT-CDO-ALLDAYEVENT:FALSE
SUMMARY:Ribbon Cutting
DESCRIPTION:Ribbon CuttingFor Buy It Again Books & GiftsFriday April 9\, 2010 @ noon213 North Main Street\, TooeleLight lunch will be served
X-ALT-DESC;FMTTYPE=text/html:<div style="text-align: center">&nbsp\;</div><div style="text-align: center"><span style="font-family: Tahoma"><span style="font-size: large"><u><strong>Ribbon Cutting</strong></u></span></span></div><div style="text-align: center"><span style="font-family: Tahoma"><span style="font-size: medium">For Buy It Again Books &amp\; Gifts</span></span></div><div style="text-align: center"><span style="font-family: Tahoma"><span style="font-size: medium">Friday April 9\, 2010 @ noon</span></span></div><div style="text-align: center"><span style="font-family: Tahoma"><span style="font-size: medium">213 North Main Street\, Tooele</span></span></div><div style="text-align: center"><span style="font-family: Tahoma"><span style="font-size: medium">Light lunch will be served</span></span></div><div style="text-align: center">&nbsp\;</div>
LOCATION:
UID:e.125.3122
SEQUENCE:3
DTSTAMP:20260423T062144Z
URL:https://members.tooelechamber.com/events/details/ribbon-cutting-04-09-2010-3122
END:VEVENT

END:VCALENDAR
