BEGIN:VCALENDAR
VERSION:2.0
PRODID:-//ChamberMaster//Event Calendar 2.0//EN
METHOD:PUBLISH
X-PUBLISHED-TTL:P3D
REFRESH-INTERVAL:P3D
CALSCALE:GREGORIAN
BEGIN:VEVENT
DTSTART:20130411T180000Z
DTEND:20130411T190000Z
X-MICROSOFT-CDO-ALLDAYEVENT:FALSE
SUMMARY:Ribbon Cutting
DESCRIPTION:RIBBON CUTTING\n\n	Thursday\, April 11\, 2013\n\n	12 Noon\n\n	Locksmitty's Lock Shop\n\n	Brent Smith\n\n	23 East Vine Street\, Tooele
X-ALT-DESC;FMTTYPE=text/html:<div style="color: gray">\n	<span style="font-size: 16px"><span style="color: #0000cd"><span style="font-family: arial\, sans-serif"><strong><u>RIBBON CUTTING</u></strong><br />\n	Thursday\, April 11\, 2013<br />\n	12 Noon<br />\n	<u><strong>Locksmitty&#39\;s Lock Shop</strong></u><br />\n	Brent Smith<br />\n	23 East Vine Street\, Tooele</span></span></span></div>\n
LOCATION:
UID:e.125.5028
SEQUENCE:3
DTSTAMP:20260420T181354Z
URL:https://members.tooelechamber.com/events/details/ribbon-cutting-04-11-2013-5028
END:VEVENT

END:VCALENDAR
