BEGIN:VCALENDAR
VERSION:2.0
PRODID:-//ChamberMaster//Event Calendar 2.0//EN
METHOD:PUBLISH
X-PUBLISHED-TTL:P3D
REFRESH-INTERVAL:P3D
CALSCALE:GREGORIAN
BEGIN:VEVENT
DTSTART:20130413T160000Z
DTEND:20130413T170000Z
X-MICROSOFT-CDO-ALLDAYEVENT:FALSE
SUMMARY:RIBBON CUTTING
DESCRIPTION:Ribbon Cutting Ceremony\n\n	Saturday\, April 13\, 2013\n\n	10:00 am                   \n\n	Grantsville City Library\n\n	42 North Bowery Street\, Grantsville\n\n	Click here to edit...
X-ALT-DESC;FMTTYPE=text/html:<div style="color: gray">\n	<strong><span style="color: #548dd4"><span style="font-family: arial\, sans-serif"><span style="font-size: medium">Ribbon Cutting Ceremony</span></span></span></strong><br />\n	<strong><span style="color: #548dd4"><span style="font-family: arial\, sans-serif"><span style="font-size: medium">Saturday\, April 13\, 2013</span></span></span></strong><br />\n	<strong><span style="color: #548dd4"><span style="font-family: arial\, sans-serif"><span style="font-size: medium">10:00 am&nbsp\;&nbsp\;&nbsp\;&nbsp\;&nbsp\;&nbsp\;&nbsp\;&nbsp\;&nbsp\;&nbsp\;&nbsp\;&nbsp\;&nbsp\;&nbsp\;&nbsp\;&nbsp\;&nbsp\;&nbsp\; </span></span></span></strong><br />\n	<strong><span style="font-size: 18pt"><span style="color: #548dd4"><span style="font-family: arial\, sans-serif">Grantsville City Library</span></span></span></strong><br />\n	<strong><span style="color: #548dd4"><span style="font-family: arial\, sans-serif"><span style="font-size: medium">42 North Bowery Street\, Grantsville</span></span></span></strong><br />\n	Click here to edit...</div>\n
LOCATION:
UID:e.125.5026
SEQUENCE:3
DTSTAMP:20260420T195651Z
URL:https://members.tooelechamber.com/events/details/ribbon-cutting-04-13-2013-5026
END:VEVENT

END:VCALENDAR
