BEGIN:VCALENDAR
VERSION:2.0
PRODID:-//ChamberMaster//Event Calendar 2.0//EN
METHOD:PUBLISH
X-PUBLISHED-TTL:P3D
REFRESH-INTERVAL:P3D
CALSCALE:GREGORIAN
BEGIN:VEVENT
DTSTART;VALUE=DATE:20130504
DTEND;VALUE=DATE:20130505
TRANSP:TRANSPARENT
X-MICROSOFT-CDO-ALLDAYEVENT:TRUE
SUMMARY:Ribbon Cutting
DESCRIPTION:Ribbon Cutting\n\n	Game Haven\n\n	Saturday\, May 4th\, 2013\n\n	12:00 Noon\n\n	762 North Main Street\n\n	Click here to edit...
X-ALT-DESC;FMTTYPE=text/html:<div style="color: gray">\n	<span style="font-size: 20px"><strong><span style="color: #0000cd"><u>Ribbon Cutting</u><br />\n	Game Haven<br />\n	Saturday\, May 4<sup>th</sup>\, 2013<br />\n	12:00 Noon<br />\n	762 North Main Street<br />\n	Click here to edit...</span></strong></span></div>\n
LOCATION:
UID:e.125.5030
SEQUENCE:3
DTSTAMP:20260420T162645Z
URL:https://members.tooelechamber.com/events/details/ribbon-cutting-05-04-2013-5030
END:VEVENT

END:VCALENDAR
