BEGIN:VCALENDAR
VERSION:2.0
PRODID:-//ChamberMaster//Event Calendar 2.0//EN
METHOD:PUBLISH
X-PUBLISHED-TTL:P3D
REFRESH-INTERVAL:P3D
CALSCALE:GREGORIAN
BEGIN:VEVENT
DTSTART:20100510T180000Z
DTEND:20100510T190000Z
X-MICROSOFT-CDO-ALLDAYEVENT:FALSE
SUMMARY:Ribbon Cutting
DESCRIPTION:Ribbon CuttingMonday\, May 10\, 2010 @ noonPaws Inn10 South Garnett Street\, Tooele Light refreshments will be served
X-ALT-DESC;FMTTYPE=text/html:<div style="text-align: center"><span style="font-family: Comic Sans MS"><u><strong><span style="font-size: large">Ribbon Cutting</span></strong></u></span></div><div style="text-align: center"><span style="font-family: Comic Sans MS"><span style="font-size: large">Monday\, May 10\, 2010 @ noon</span></span></div><div style="text-align: center"><span style="font-family: Comic Sans MS"><span style="font-size: large">Paws Inn</span></span></div><div style="text-align: center"><span style="font-family: Comic Sans MS"><span style="font-size: large">10 South Garnett Street\, Tooele </span></span></div><div style="text-align: center"><span style="font-family: Comic Sans MS"><span style="font-size: large">Light refreshments will be served </span></span></div>
LOCATION:
UID:e.125.3131
SEQUENCE:3
DTSTAMP:20260423T044552Z
URL:https://members.tooelechamber.com/events/details/ribbon-cutting-05-10-2010-3131
END:VEVENT

END:VCALENDAR
