BEGIN:VCALENDAR
VERSION:2.0
PRODID:-//ChamberMaster//Event Calendar 2.0//EN
METHOD:PUBLISH
X-PUBLISHED-TTL:P3D
REFRESH-INTERVAL:P3D
CALSCALE:GREGORIAN
BEGIN:VEVENT
DTSTART:20120511T180000Z
DTEND:20120511T183000Z
X-MICROSOFT-CDO-ALLDAYEVENT:FALSE
SUMMARY:Ribbon Cutting
DESCRIPTION:Ribbon Cutting\n\n	Friday\, May 11\, 2012\n\n	12:00 pm noon\n\n	Belleazza Bi Taglio\n\n	33 North Main Street\n\n	Tooele
X-ALT-DESC;FMTTYPE=text/html:<p style="text-align: center">\n	<span style="font-size: 24px"><strong><u>Ribbon Cutting</u></strong><br />\n	Friday\, May 11\, 2012<br />\n	12:00 pm noon<br />\n	Belleazza Bi Taglio<br />\n	33 North Main Street<br />\n	Tooele</span></p>\n
LOCATION:
UID:e.125.4841
SEQUENCE:3
DTSTAMP:20260421T154450Z
URL:https://members.tooelechamber.com/events/details/ribbon-cutting-05-11-2012-4841
END:VEVENT

END:VCALENDAR
