BEGIN:VCALENDAR
VERSION:2.0
PRODID:-//ChamberMaster//Event Calendar 2.0//EN
METHOD:PUBLISH
X-PUBLISHED-TTL:P3D
REFRESH-INTERVAL:P3D
CALSCALE:GREGORIAN
BEGIN:VEVENT
DTSTART:20110521T160000Z
DTEND:20110521T170000Z
X-MICROSOFT-CDO-ALLDAYEVENT:FALSE
SUMMARY:Ribbon Cutting
DESCRIPTION:Ribbon Cutting\n\n	Saturday\, May 21\, 2011 @ 10am\n\n	Jakobi Gifts\n\n	19 East Vine Street\, Tooele
X-ALT-DESC;FMTTYPE=text/html:<p style="text-align: center">\n	<span style="font-size: 24px"><u><strong>Ribbon Cutting</strong></u><br />\n	Saturday\, May 21\, 2011 @ 10am<br />\n	Jakobi Gifts<br />\n	19 East Vine Street\, Tooele </span></p>\n
LOCATION:
UID:e.125.3689
SEQUENCE:3
DTSTAMP:20260422T091017Z
URL:https://members.tooelechamber.com/events/details/ribbon-cutting-05-21-2011-3689
END:VEVENT

END:VCALENDAR
