BEGIN:VCALENDAR
VERSION:2.0
PRODID:-//ChamberMaster//Event Calendar 2.0//EN
METHOD:PUBLISH
X-PUBLISHED-TTL:P3D
REFRESH-INTERVAL:P3D
CALSCALE:GREGORIAN
BEGIN:VEVENT
DTSTART:20110524T150000Z
DTEND:20110524T160000Z
X-MICROSOFT-CDO-ALLDAYEVENT:FALSE
SUMMARY:Ribbon Cutting
DESCRIPTION:Ribbon Cutting \n\n	Tuesday\, May 24\, 2011 @ 9am \n\n	HealthSource Chiropractic Rehab of Tooele\n\n	352 North Main Street\, Tooele
X-ALT-DESC;FMTTYPE=text/html:<p style="text-align: center">\n	<u><strong><span style="font-size: 26px">Ribbon Cutting </span></strong></u></p>\n<p style="text-align: center">\n	<span style="font-size: 26px">Tuesday\, May 24\, 2011 @ 9am </span></p>\n<p style="text-align: center">\n	<span style="font-size: 26px">HealthSource Chiropractic Rehab of Tooele<br />\n	352 North Main Street\, Tooele &nbsp\;</span></p>\n
LOCATION:
UID:e.125.3695
SEQUENCE:3
DTSTAMP:20260422T091052Z
URL:https://members.tooelechamber.com/events/details/ribbon-cutting-05-24-2011-3695
END:VEVENT

END:VCALENDAR
