BEGIN:VCALENDAR
VERSION:2.0
PRODID:-//ChamberMaster//Event Calendar 2.0//EN
METHOD:PUBLISH
X-PUBLISHED-TTL:P3D
REFRESH-INTERVAL:P3D
CALSCALE:GREGORIAN
BEGIN:VEVENT
DTSTART:20120525T180000Z
DTEND:20120525T183000Z
X-MICROSOFT-CDO-ALLDAYEVENT:FALSE
SUMMARY:Ribbon Cutting
DESCRIPTION:Ribbon Cutting\n\n	Friday\, May 25\, 2012 @ 12 noon\n\n	Victor's Tires\n\n	930 No. Main Street\, Tooele
X-ALT-DESC;FMTTYPE=text/html:<p>\n	<span style="font-size: 24px"><u>Ribbon Cutting</u><br />\n	Friday\, May 25\, 2012 @ 12 noon<br />\n	Victor&#39\;s Tires<br />\n	930 No. Main Street\, Tooele</span></p>\n
LOCATION:
UID:e.125.4848
SEQUENCE:3
DTSTAMP:20260421T140632Z
URL:https://members.tooelechamber.com/events/details/ribbon-cutting-05-25-2012-4848
END:VEVENT

END:VCALENDAR
