BEGIN:VCALENDAR
VERSION:2.0
PRODID:-//ChamberMaster//Event Calendar 2.0//EN
METHOD:PUBLISH
X-PUBLISHED-TTL:P3D
REFRESH-INTERVAL:P3D
CALSCALE:GREGORIAN
BEGIN:VEVENT
DTSTART:20120601T180000Z
DTEND:20120601T183000Z
X-MICROSOFT-CDO-ALLDAYEVENT:FALSE
SUMMARY:Ribbon Cutting
DESCRIPTION:Ribbon Cutting\n\nFriday\, June 1\, 2012 @ 12 Noon\n\nSecurity Finance & Tax Services\n\n1222 North Main\, Tooele
X-ALT-DESC;FMTTYPE=text/html:<u><span style="font-size: 18px"><strong>Ribbon Cutting</strong></span></u><br />\n<span style="font-size: 18px"><strong>Friday\, June 1\, 2012 @ 12 Noon<br />\nSecurity Finance &amp\; Tax Services<br />\n1222 North Main\, Tooele</strong></span>
LOCATION:
UID:e.125.4850
SEQUENCE:3
DTSTAMP:20260421T121911Z
URL:https://members.tooelechamber.com/events/details/ribbon-cutting-06-01-2012-4850
END:VEVENT

END:VCALENDAR
