BEGIN:VCALENDAR
VERSION:2.0
PRODID:-//ChamberMaster//Event Calendar 2.0//EN
METHOD:PUBLISH
X-PUBLISHED-TTL:P3D
REFRESH-INTERVAL:P3D
CALSCALE:GREGORIAN
BEGIN:VEVENT
DTSTART:20100602T170000Z
DTEND:20100602T180000Z
X-MICROSOFT-CDO-ALLDAYEVENT:FALSE
SUMMARY:Ribbon Cutting
DESCRIPTION:Ribbon Cutting Tooele County Trails Committee Wednesday\, June 2\, 2010 @ 11amThe trailhead is located on corner of Droubay Road and Vine Street.Next to Oquirrh Hills Golf Course
X-ALT-DESC;FMTTYPE=text/html:<div style="text-align: center"><u><strong><span style="font-size: large"><span style="font-family: Arial">Ribbon Cutting </span></span></strong></u></div><div style="text-align: center"><span style="font-size: large"><span style="font-family: Arial">Tooele County Trails Committee </span></span></div><div style="text-align: center"><span style="font-size: large"><span style="font-family: Arial">Wednesday\, June 2\, 2010 @ 11am</span></span></div><div style="text-align: center"><span style="font-size: large"><span style="font-family: Arial">The trailhead is located on corner </span></span></div><div style="text-align: center"><span style="font-size: large"><span style="font-family: Arial">of Droubay Road and Vine Street.</span></span></div><div style="text-align: center"><span style="font-size: large"><span style="font-family: Arial">Next to Oquirrh Hills Golf Course</span></span></div>
LOCATION:
UID:e.125.3169
SEQUENCE:3
DTSTAMP:20260423T032151Z
URL:https://members.tooelechamber.com/events/details/ribbon-cutting-06-02-2010-3169
END:VEVENT

END:VCALENDAR
