BEGIN:VCALENDAR
VERSION:2.0
PRODID:-//ChamberMaster//Event Calendar 2.0//EN
METHOD:PUBLISH
X-PUBLISHED-TTL:P3D
REFRESH-INTERVAL:P3D
CALSCALE:GREGORIAN
BEGIN:VEVENT
DTSTART:20120602T180000Z
DTEND:20120602T183000Z
X-MICROSOFT-CDO-ALLDAYEVENT:FALSE
SUMMARY:Ribbon Cutting
DESCRIPTION:Ribbon Cutting\n\nSaturday\, June 2\, 2012\n\n12 pm Noon\n\nState Farm Ins.-Matthew Yack\n\n220 Millpond Ste. # 108\n\nStansbury Park
X-ALT-DESC;FMTTYPE=text/html:<strong><em><u><span style="font-size: 22px">Ribbon Cutting</span></u></em><br />\n<span style="font-size: 22px">Saturday\, June 2\, 2012<br />\n12 pm Noon<br />\nState Farm Ins.-Matthew Yack<br />\n220 Millpond Ste. # 108<br />\nStansbury Park</span></strong>
LOCATION:
UID:e.125.4847
SEQUENCE:3
DTSTAMP:20260421T121911Z
URL:https://members.tooelechamber.com/events/details/ribbon-cutting-06-02-2012-4847
END:VEVENT

END:VCALENDAR
