BEGIN:VCALENDAR
VERSION:2.0
PRODID:-//ChamberMaster//Event Calendar 2.0//EN
METHOD:PUBLISH
X-PUBLISHED-TTL:P3D
REFRESH-INTERVAL:P3D
CALSCALE:GREGORIAN
BEGIN:VEVENT
DTSTART:20100605T174500Z
DTEND:20100605T184500Z
X-MICROSOFT-CDO-ALLDAYEVENT:FALSE
SUMMARY:Ribbon Cutting
DESCRIPTION:Ribbon Cutting Jumpin' Jack SplashSaturday\, June 5\, 2010 @ 11:45amSettlers Park44 West 500 South\, Tooele (Behind La Frontera Restaurant)
X-ALT-DESC;FMTTYPE=text/html:<div style="text-align: center"><u><strong><span style="font-size: x-large">Ribbon Cutting </span></strong></u></div><div style="text-align: center"><span style="font-size: x-large">Jumpin' Jack Splash</span></div><div style="text-align: center"><span style="font-size: x-large">Saturday\, June 5\, 2010 @ 11:45am</span></div><div style="text-align: center"><span style="font-size: x-large">Settlers Park</span></div><div style="text-align: center"><span style="font-size: x-large">44 West 500 South\, Tooele </span></div><div style="text-align: center"><span style="font-size: x-large">(Behind La Frontera Restaurant)</span></div>
LOCATION:
UID:e.125.3170
SEQUENCE:3
DTSTAMP:20260423T044553Z
URL:https://members.tooelechamber.com/events/details/ribbon-cutting-06-05-2010-3170
END:VEVENT

END:VCALENDAR
