BEGIN:VCALENDAR
VERSION:2.0
PRODID:-//ChamberMaster//Event Calendar 2.0//EN
METHOD:PUBLISH
X-PUBLISHED-TTL:P3D
REFRESH-INTERVAL:P3D
CALSCALE:GREGORIAN
BEGIN:VEVENT
DTSTART:20080607T180000Z
DTEND:20080607T180000Z
X-MICROSOFT-CDO-ALLDAYEVENT:FALSE
SUMMARY:Ribbon Cutting
DESCRIPTION:Ribbon CuttingThe Purple Cow Bookstore992 No. Main Main\, Tooele
X-ALT-DESC;FMTTYPE=text/html:<div>Ribbon Cutting</div><div>The Purple Cow Bookstore</div><div>992 No. Main Main\, Tooele</div>
LOCATION:
UID:e.125.437
SEQUENCE:3
DTSTAMP:20260424T165351Z
URL:https://members.tooelechamber.com/events/details/ribbon-cutting-06-07-2008-437
END:VEVENT

END:VCALENDAR
