BEGIN:VCALENDAR
VERSION:2.0
PRODID:-//ChamberMaster//Event Calendar 2.0//EN
METHOD:PUBLISH
X-PUBLISHED-TTL:P3D
REFRESH-INTERVAL:P3D
CALSCALE:GREGORIAN
BEGIN:VEVENT
DTSTART:20080607T160000Z
DTEND:20080607T160000Z
X-MICROSOFT-CDO-ALLDAYEVENT:FALSE
SUMMARY:Ribbon Cutting
DESCRIPTION:Saturday\, June 7th- Mid Valley Trail\n Rogers Road (Between Hwy 112 & 1000 West)\, Tooele\n 10 am
X-ALT-DESC;FMTTYPE=text/html:<div><font size="4">Saturday\, June 7th- </font></div><div><font size="4">Mid Valley Trail<br />&nbsp\;Rogers Road (Between Hwy 112 &amp\; 1000 West)\, Tooele<br />&nbsp\;10 am</font></div>
LOCATION:Rogers Road (Between Hwy 112 & 1000 West)\, Tooele
UID:e.125.438
SEQUENCE:3
DTSTAMP:20260424T165321Z
URL:https://members.tooelechamber.com/events/details/ribbon-cutting-06-07-2008-438
END:VEVENT

END:VCALENDAR
