BEGIN:VCALENDAR
VERSION:2.0
PRODID:-//ChamberMaster//Event Calendar 2.0//EN
METHOD:PUBLISH
X-PUBLISHED-TTL:P3D
REFRESH-INTERVAL:P3D
CALSCALE:GREGORIAN
BEGIN:VEVENT
DTSTART:20110608T210000Z
DTEND:20110608T220000Z
X-MICROSOFT-CDO-ALLDAYEVENT:FALSE
SUMMARY:Ribbon Cutting
DESCRIPTION:Ribbon Cutting\n\n	Wednesday\, June 8\, 2011 @ 3pm\n\n	Liahona Books\n\n	17 East Vine Street\,Tooele
X-ALT-DESC;FMTTYPE=text/html:<p style="text-align: center">\n	<span style="font-size: 24px">Ribbon Cutting<br />\n	Wednesday\, June 8\, 2011 @ 3pm<br />\n	Liahona Books<br />\n	17 East Vine Street\,Tooele</span></p>\n
LOCATION:
UID:e.125.3706
SEQUENCE:3
DTSTAMP:20260422T074327Z
URL:https://members.tooelechamber.com/events/details/ribbon-cutting-06-08-2011-3706
END:VEVENT

END:VCALENDAR
