BEGIN:VCALENDAR
VERSION:2.0
PRODID:-//ChamberMaster//Event Calendar 2.0//EN
METHOD:PUBLISH
X-PUBLISHED-TTL:P3D
REFRESH-INTERVAL:P3D
CALSCALE:GREGORIAN
BEGIN:VEVENT
DTSTART:20110623T180000Z
DTEND:20110623T190000Z
X-MICROSOFT-CDO-ALLDAYEVENT:FALSE
SUMMARY:Ribbon Cutting
DESCRIPTION:Ribbon Cutting\n\n	Thursday\, June 23\, 2011 @ 12pm\n\n	Miller Motorsports Park\n\n	Off-Road Course
X-ALT-DESC;FMTTYPE=text/html:<p style="text-align: center">\n	<span style="font-size: 24px"><u><strong>Ribbon Cutting</strong></u><br />\n	Thursday\, June 23\, 2011 @ 12pm<br />\n	Miller Motorsports Park<br />\n	Off-Road Course</span><br />\n	&nbsp\;</p>\n
LOCATION:
UID:e.125.3727
SEQUENCE:3
DTSTAMP:20260422T074445Z
URL:https://members.tooelechamber.com/events/details/ribbon-cutting-06-23-2011-3727
END:VEVENT

END:VCALENDAR
