BEGIN:VCALENDAR
VERSION:2.0
PRODID:-//ChamberMaster//Event Calendar 2.0//EN
METHOD:PUBLISH
X-PUBLISHED-TTL:P3D
REFRESH-INTERVAL:P3D
CALSCALE:GREGORIAN
BEGIN:VEVENT
DTSTART:20100715T180000Z
DTEND:20100715T180000Z
X-MICROSOFT-CDO-ALLDAYEVENT:FALSE
SUMMARY:Ribbon Cutting
DESCRIPTION:Ribbon CuttingSpencers Arts
X-ALT-DESC;FMTTYPE=text/html:<div>Ribbon Cutting</div><div>Spencers Arts</div>
LOCATION:42 S. Main St.Tooele\, UT 84074
UID:e.125.3208
SEQUENCE:3
DTSTAMP:20260423T031101Z
URL:https://members.tooelechamber.com/events/details/ribbon-cutting-07-15-2010-3208
END:VEVENT

END:VCALENDAR
