BEGIN:VCALENDAR
VERSION:2.0
PRODID:-//ChamberMaster//Event Calendar 2.0//EN
METHOD:PUBLISH
X-PUBLISHED-TTL:P3D
REFRESH-INTERVAL:P3D
CALSCALE:GREGORIAN
BEGIN:VEVENT
DTSTART:20100716T171500Z
DTEND:20100716T180000Z
X-MICROSOFT-CDO-ALLDAYEVENT:FALSE
SUMMARY:Ribbon Cutting
DESCRIPTION:Ribbon Cutting Jumpin' Jack Splash Friday\, July 16\, 2010 @ 11:15am 493 North Main Street\, Tooele
X-ALT-DESC;FMTTYPE=text/html:<div><div style="text-align: center"><u><strong><span style="font-size: x-large">Ribbon Cutting </span></strong></u></div><div style="text-align: center"><span style="font-size: x-large">Jumpin&rsquo\; Jack Splash </span></div><div style="text-align: center"><span style="font-size: x-large">Friday\, July 16\, 2010 @ 11:15am </span></div><div style="text-align: center"><span style="font-size: x-large">493&nbsp\;North Main Street\, Tooele</span></div></div>
LOCATION:
UID:e.125.3207
SEQUENCE:3
DTSTAMP:20260423T013337Z
URL:https://members.tooelechamber.com/events/details/ribbon-cutting-07-16-2010-3207
END:VEVENT

END:VCALENDAR
