BEGIN:VCALENDAR
VERSION:2.0
PRODID:-//ChamberMaster//Event Calendar 2.0//EN
METHOD:PUBLISH
X-PUBLISHED-TTL:P3D
REFRESH-INTERVAL:P3D
CALSCALE:GREGORIAN
BEGIN:VEVENT
DTSTART:20100716T173000Z
DTEND:20100716T174500Z
X-MICROSOFT-CDO-ALLDAYEVENT:FALSE
SUMMARY:Ribbon Cutting
DESCRIPTION:Ribbon Cutting & Grand Opening of Advanced Practice Medical Clinic\, Brand Reynolds\, NEW LOCATION!!Friday\, July 16\, 2010 @ 11:30am 493 North Main Street\, Tooele
X-ALT-DESC;FMTTYPE=text/html:<div><div style="text-align: center"><strong><span style="font-size: large">Ribbon Cutting &amp\; Grand Opening of </span></strong></div><div style="text-align: center"><span style="font-size: large">Advanced Practice&nbsp\;Medical Clinic\, Brand Reynolds\, </span><strong><span style="font-size: large">NEW LOCATION!!</span></strong></div><div style="text-align: center"><span style="font-size: large">Friday\, July 16\, 2010 @ 11:30am </span></div><div style="text-align: center"><span style="font-size: large">493 North Main Street\, Tooele </span></div></div>
LOCATION:
UID:e.125.3209
SEQUENCE:3
DTSTAMP:20260423T031102Z
URL:https://members.tooelechamber.com/events/details/ribbon-cutting-07-16-2010-3209
END:VEVENT

END:VCALENDAR
