BEGIN:VCALENDAR
VERSION:2.0
PRODID:-//ChamberMaster//Event Calendar 2.0//EN
METHOD:PUBLISH
X-PUBLISHED-TTL:P3D
REFRESH-INTERVAL:P3D
CALSCALE:GREGORIAN
BEGIN:VEVENT
DTSTART:20110727T180000Z
DTEND:20110727T190000Z
X-MICROSOFT-CDO-ALLDAYEVENT:FALSE
SUMMARY:Ribbon Cutting
DESCRIPTION:Ribbon Cutting\n\n	Wednesday\, July 27\, 2011 @ 12pm\n\n	Advantage Sign\n\n	505 Brenda Place UID Bldg 605\, Tooele\n\n	Open House\n\n	lunch will be served!!
X-ALT-DESC;FMTTYPE=text/html:<p style="text-align: center">\n	<span style="font-size: 28px">Ribbon Cutting<br />\n	Wednesday\, July 27\, 2011 @ 12pm<br />\n	Advantage Sign<br />\n	505 Brenda Place UID Bldg 605\, Tooele<br />\n	Open House<br />\n	lunch will be served!!</span></p>\n
LOCATION:
UID:e.125.3732
SEQUENCE:3
DTSTAMP:20260422T073751Z
URL:https://members.tooelechamber.com/events/details/ribbon-cutting-07-27-2011-3732
END:VEVENT

END:VCALENDAR
