BEGIN:VCALENDAR
VERSION:2.0
PRODID:-//ChamberMaster//Event Calendar 2.0//EN
METHOD:PUBLISH
X-PUBLISHED-TTL:P3D
REFRESH-INTERVAL:P3D
CALSCALE:GREGORIAN
BEGIN:VEVENT
DTSTART:20090805T140000Z
DTEND:20090806T020000Z
X-MICROSOFT-CDO-ALLDAYEVENT:FALSE
SUMMARY:Ribbon Cutting
DESCRIPTION:Wednesday\, August 5th- 8 am\n Mr. Appliance\n 7 South Main\, Suite 201\, TooeleCome on out & Support our Chamber Member
X-ALT-DESC;FMTTYPE=text/html:<div style="text-align: center"><span style="font-size: medium"><strong>Wednesday\, August 5th- 8 am<br />&nbsp\;<font color="#ff0000">Mr. Appliance</font><br />&nbsp\;7 South Main\, Suite 201\, Tooele</strong></span></div><div style="text-align: center"><span style="font-size: medium"><strong>Come on out &amp\; Support our Chamber Member</strong></span></div>
LOCATION:
UID:e.125.2544
SEQUENCE:3
DTSTAMP:20260423T181555Z
URL:https://members.tooelechamber.com/events/details/ribbon-cutting-08-05-2009-2544
END:VEVENT

END:VCALENDAR
