BEGIN:VCALENDAR
VERSION:2.0
PRODID:-//ChamberMaster//Event Calendar 2.0//EN
METHOD:PUBLISH
X-PUBLISHED-TTL:P3D
REFRESH-INTERVAL:P3D
CALSCALE:GREGORIAN
BEGIN:VEVENT
DTSTART:20110812T180000Z
DTEND:20110812T190000Z
X-MICROSOFT-CDO-ALLDAYEVENT:FALSE
SUMMARY:Ribbon Cutting
DESCRIPTION:Ribbon Cutting\n\n	Friday\, August 12\, 2011 @ 12pm\n\n	Techna Glass of Tooele\n\n	397 North Main Street\, Tooele
X-ALT-DESC;FMTTYPE=text/html:<p style="text-align: center">\n	<span style="font-size: 28px">Ribbon Cutting<br />\n	Friday\, August 12\, 2011 @ 12pm<br />\n	Techna Glass of Tooele<br />\n	397 North Main Street\, Tooele </span></p>\n
LOCATION:
UID:e.125.3868
SEQUENCE:3
DTSTAMP:20260422T060838Z
URL:https://members.tooelechamber.com/events/details/ribbon-cutting-08-12-2011-3868
END:VEVENT

END:VCALENDAR
