BEGIN:VCALENDAR
VERSION:2.0
PRODID:-//ChamberMaster//Event Calendar 2.0//EN
METHOD:PUBLISH
X-PUBLISHED-TTL:P3D
REFRESH-INTERVAL:P3D
CALSCALE:GREGORIAN
BEGIN:VEVENT
DTSTART:20110819T183000Z
DTEND:20110819T193000Z
X-MICROSOFT-CDO-ALLDAYEVENT:FALSE
SUMMARY:Ribbon Cutting
DESCRIPTION:Ribbon Cutting\n\n	Friday\, August 19\, 2011 @ 12:30pm\n\n	R.F. Engraving\n\n	120 West Main Street\, Grantsville
X-ALT-DESC;FMTTYPE=text/html:<p style="text-align: center">\n	<em><strong><span style="font-size: 28px">Ribbon Cutting</span></strong></em><br />\n	<span style="font-size: 28px">Friday\, August 19\, 2011 @ 12:30pm</span><br />\n	<span style="font-size: 28px">R.F. Engraving<br />\n	120 West Main Street\, Grantsville </span></p>\n
LOCATION:
UID:e.125.3869
SEQUENCE:3
DTSTAMP:20260422T043442Z
URL:https://members.tooelechamber.com/events/details/ribbon-cutting-08-19-2011-3869
END:VEVENT

END:VCALENDAR
