BEGIN:VCALENDAR
VERSION:2.0
PRODID:-//ChamberMaster//Event Calendar 2.0//EN
METHOD:PUBLISH
X-PUBLISHED-TTL:P3D
REFRESH-INTERVAL:P3D
CALSCALE:GREGORIAN
BEGIN:VEVENT
DTSTART:20130821T220000Z
DTEND:20130821T230000Z
X-MICROSOFT-CDO-ALLDAYEVENT:FALSE
SUMMARY:Ribbon Cutting
DESCRIPTION:Ribbon Cutting Ceremony and Open House\nWelcoming Dr. Steven Rich\, Pediatrician\n Wednesday\, August 21st\, 2013\n4-6 pm\nWellsprings Pediatrics\n196 E 2000 N\, St 100
X-ALT-DESC;FMTTYPE=text/html:<DIV style="COLOR: gray">&nbsp\;</DIV>\n<DIV style="COLOR: gray"><BR><SPAN style="FONT-WEIGHT: bold\; language: en-US"><SPAN style="FONT-SIZE: 32pt"><SPAN style="COLOR: black"><SPAN style="FONT-FAMILY: lucida sans unicode"><SPAN style="FONT-WEIGHT: bold\; language: en-US\; text-shadow: auto"><SPAN style="FONT-SIZE: 40pt"><SPAN style="COLOR: #c30ba9"><SPAN style="FONT-FAMILY: lucida sans unicode">Ribbon Cutting Ceremony</SPAN></SPAN></SPAN></SPAN> <SPAN style="FONT-WEIGHT: bold\; language: en-US\; text-shadow: auto"><SPAN style="FONT-SIZE: 40pt"><SPAN style="COLOR: #c30ba9"><SPAN style="FONT-FAMILY: lucida sans unicode">and Open House</SPAN></SPAN></SPAN></SPAN></SPAN></SPAN><BR><SPAN style="COLOR: #000000"><SPAN style="FONT-FAMILY: lucida sans unicode"><SPAN style="FONT-WEIGHT: bold\; language: en-US\; text-shadow: auto"><SPAN style="FONT-SIZE: 40pt"><SPAN style="FONT-FAMILY: lucida sans unicode">Welcoming</SPAN></SPAN></SPAN></SPAN></SPAN><SPAN style="COLOR: black"><SPAN style="FONT-FAMILY: lucida sans unicode"> </SPAN></SPAN></SPAN></SPAN><SPAN style="FONT-WEIGHT: bold\; language: en-US"><SPAN style="FONT-SIZE: 32pt"><SPAN style="COLOR: black"><SPAN style="FONT-FAMILY: lucida sans unicode">Dr. Steven Rich\, Pediatrician</SPAN></SPAN></SPAN></SPAN><BR>&nbsp\;<SPAN style="FONT-WEIGHT: bold\; language: en-US"><SPAN style="FONT-SIZE: 32pt"><SPAN style="COLOR: black"><SPAN style="FONT-FAMILY: lucida sans unicode">Wednesday</SPAN></SPAN></SPAN></SPAN><SPAN style="FONT-WEIGHT: bold\; language: en-US"><SPAN style="FONT-SIZE: 32pt"><SPAN style="COLOR: black"><SPAN style="FONT-FAMILY: lucida sans unicode">\, August </SPAN></SPAN></SPAN></SPAN><SPAN style="FONT-WEIGHT: bold\; language: en-US"><SPAN style="FONT-SIZE: 32pt"><SPAN style="COLOR: black"><SPAN style="FONT-FAMILY: lucida sans unicode">21st\, </SPAN></SPAN></SPAN></SPAN><SPAN style="FONT-WEIGHT: bold\; language: en-US"><SPAN style="FONT-SIZE: 32pt"><SPAN style="COLOR: black"><SPAN style="FONT-FAMILY: lucida sans unicode">2013</SPAN></SPAN></SPAN></SPAN><BR><SPAN style="FONT-WEIGHT: bold\; language: en-US"><SPAN style="FONT-SIZE: 32pt"><SPAN style="COLOR: black"><SPAN style="FONT-FAMILY: lucida sans unicode">4-6 pm</SPAN></SPAN></SPAN></SPAN><BR><SPAN style="FONT-WEIGHT: bold\; language: en-US"><SPAN style="FONT-SIZE: 32pt"><SPAN style="COLOR: black"><SPAN style="FONT-FAMILY: lucida sans unicode">Wellsprings Pediatrics</SPAN></SPAN></SPAN></SPAN><BR><SPAN style="FONT-WEIGHT: bold\; language: en-US"><SPAN style="FONT-SIZE: 32pt"><SPAN style="COLOR: black"><SPAN style="FONT-FAMILY: lucida sans unicode">196 E 2000 N\, St 100</SPAN></SPAN></SPAN></SPAN><BR>&nbsp\;</DIV>
LOCATION:Click here to edit...
UID:e.125.5043
SEQUENCE:3
DTSTAMP:20260420T131654Z
URL:https://members.tooelechamber.com/events/details/ribbon-cutting-08-21-2013-5043
END:VEVENT

END:VCALENDAR
