BEGIN:VCALENDAR
VERSION:2.0
PRODID:-//ChamberMaster//Event Calendar 2.0//EN
METHOD:PUBLISH
X-PUBLISHED-TTL:P3D
REFRESH-INTERVAL:P3D
CALSCALE:GREGORIAN
BEGIN:VEVENT
DTSTART:20100827T180000Z
DTEND:20100827T190000Z
X-MICROSOFT-CDO-ALLDAYEVENT:FALSE
SUMMARY:Ribbon Cutting
DESCRIPTION:Ribbon Cutting Friday\, August 27\, 2010 @ NoonFor new businesses:Ad Hitch Beck "N" CallSpray and Wipe Cleaning at the Chamber's new building 154 South Main\, Tooele
X-ALT-DESC;FMTTYPE=text/html:<div style="text-align: center"><u><strong><span style="font-size: large">Ribbon Cutting </span></strong></u></div><div style="text-align: center"><span style="font-size: large">Friday\, August 27\, 2010 @ Noon</span></div><div style="text-align: center"><span style="font-size: large">For new businesses:</span></div><div style="text-align: center"><span style="font-size: large">Ad Hitch </span></div><div style="text-align: center"><span style="font-size: large">Beck &quot\;N&quot\; Call</span></div><div style="text-align: center"><span style="font-size: large">Spray and Wipe Cleaning </span></div><div style="text-align: center"><span style="font-size: large">at the Chamber's new building </span></div><div style="text-align: center"><span style="font-size: large">154 South Main\, Tooele </span></div>
LOCATION:
UID:e.125.3220
SEQUENCE:3
DTSTAMP:20260423T012718Z
URL:https://members.tooelechamber.com/events/details/ribbon-cutting-08-27-2010-3220
END:VEVENT

END:VCALENDAR
