BEGIN:VCALENDAR
VERSION:2.0
PRODID:-//ChamberMaster//Event Calendar 2.0//EN
METHOD:PUBLISH
X-PUBLISHED-TTL:P3D
REFRESH-INTERVAL:P3D
CALSCALE:GREGORIAN
BEGIN:VEVENT
DTSTART;VALUE=DATE:20080909
DTEND;VALUE=DATE:20080910
TRANSP:TRANSPARENT
X-MICROSOFT-CDO-ALLDAYEVENT:TRUE
SUMMARY:Ribbon Cutting
DESCRIPTION:Tuesday\, September 9th\n Lifestyle Tooele Magazine\n Veterans Memorial Park\n Vine & Main\, Tooele\n Ribbon Cutting @ 2:30 pm\n Will take place during Business Expo\n 435-882-0690
X-ALT-DESC;FMTTYPE=text/html:<p align="center"><font size="4">Tuesday\, September 9th<br />&nbsp\;Lifestyle Tooele Magazine<br />&nbsp\;Veterans Memorial Park<br />&nbsp\;Vine &amp\; Main\, Tooele<br />&nbsp\;Ribbon Cutting @ 2:30 pm<br />&nbsp\;Will take place during Business Expo<br />&nbsp\;435-882-0690</font></p>
LOCATION:
UID:e.125.462
SEQUENCE:3
DTSTAMP:20260424T123220Z
URL:https://members.tooelechamber.com/events/details/ribbon-cutting-09-09-2008-462
END:VEVENT

END:VCALENDAR
