BEGIN:VCALENDAR
VERSION:2.0
PRODID:-//ChamberMaster//Event Calendar 2.0//EN
METHOD:PUBLISH
X-PUBLISHED-TTL:P3D
REFRESH-INTERVAL:P3D
CALSCALE:GREGORIAN
BEGIN:VEVENT
DTSTART:20100912T180000Z
DTEND:20100912T190000Z
X-MICROSOFT-CDO-ALLDAYEVENT:FALSE
SUMMARY:Ribbon Cutting
DESCRIPTION:Ribbon Cutting for Waters Edge Church Sunday\, September 12\, 2010 @ NoonStansbury High School Cafeteria 5300 North Aberdeen Lane\, Stansbury Park there will be a BBQ after
X-ALT-DESC;FMTTYPE=text/html:<div style="text-align: center"><strong><u><span style="font-size: large">Ribbon Cutting </span></u></strong></div><div style="text-align: center"><span style="font-size: large">for Waters Edge Church </span></div><div style="text-align: center"><span style="font-size: large">Sunday\, September 12\, 2010 @ Noon</span></div><div style="text-align: center"><span style="font-size: large">Stansbury High School Cafeteria </span></div><div style="text-align: center"><span style="font-size: large">5300 North Aberdeen Lane\, Stansbury Park </span></div><div style="text-align: center"><span style="font-size: large">there will be a BBQ after </span></div>
LOCATION:
UID:e.125.3221
SEQUENCE:3
DTSTAMP:20260422T215932Z
URL:https://members.tooelechamber.com/events/details/ribbon-cutting-09-12-2010-3221
END:VEVENT

END:VCALENDAR
