BEGIN:VCALENDAR
VERSION:2.0
PRODID:-//ChamberMaster//Event Calendar 2.0//EN
METHOD:PUBLISH
X-PUBLISHED-TTL:P3D
REFRESH-INTERVAL:P3D
CALSCALE:GREGORIAN
BEGIN:VEVENT
DTSTART;VALUE=DATE:20080926
DTEND;VALUE=DATE:20080927
TRANSP:TRANSPARENT
X-MICROSOFT-CDO-ALLDAYEVENT:TRUE
SUMMARY:Ribbon Cutting
DESCRIPTION:Friday\, September 26th\n All-Tech Electric\n 318 so. 1200 W.\n Ribbon Cutting @ Noon\n Open House Noon- 2 pm
X-ALT-DESC;FMTTYPE=text/html:<p align="center"><font size="4">Friday\, September 26th<br />&nbsp\;All-Tech Electric<br />&nbsp\;318 so. 1200 W.<br />&nbsp\;Ribbon Cutting @ Noon<br />&nbsp\;Open House Noon- 2 pm</font></p>
LOCATION:
UID:e.125.464
SEQUENCE:3
DTSTAMP:20260424T122514Z
URL:https://members.tooelechamber.com/events/details/ribbon-cutting-09-26-2008-464
END:VEVENT

END:VCALENDAR
