BEGIN:VCALENDAR
VERSION:2.0
PRODID:-//ChamberMaster//Event Calendar 2.0//EN
METHOD:PUBLISH
X-PUBLISHED-TTL:P3D
REFRESH-INTERVAL:P3D
CALSCALE:GREGORIAN
BEGIN:VEVENT
DTSTART:20081009T180000Z
DTEND:20081009T180000Z
X-MICROSOFT-CDO-ALLDAYEVENT:FALSE
SUMMARY:Ribbon Cutting
DESCRIPTION:Wednesday\, October 9th\nWB Manufacturing\n10 So. Garnet St. Bldg. 669 Suite 5\nRibbon Cutting @ Noon
X-ALT-DESC;FMTTYPE=text/html:<p align="center"><font size="4">Wednesday\,&nbsp\;October 9th<br />WB Manufacturing<br />10 So. Garnet St. Bldg. 669 Suite 5<br />Ribbon Cutting @ Noon</font></p>
LOCATION:
UID:e.125.473
SEQUENCE:3
DTSTAMP:20260424T104621Z
URL:https://members.tooelechamber.com/events/details/ribbon-cutting-10-09-2008-473
END:VEVENT

END:VCALENDAR
