BEGIN:VCALENDAR
VERSION:2.0
PRODID:-//ChamberMaster//Event Calendar 2.0//EN
METHOD:PUBLISH
X-PUBLISHED-TTL:P3D
REFRESH-INTERVAL:P3D
CALSCALE:GREGORIAN
BEGIN:VEVENT
DTSTART:20121009T180000Z
DTEND:20121009T190000Z
X-MICROSOFT-CDO-ALLDAYEVENT:FALSE
SUMMARY:Ribbon Cutting
DESCRIPTION:Ribbon Cutting\n\n	Tuesday\, October 9\,2012\n\n	5:30 pm\n\n	Tooele Valley Academy of Dance\n\n	291 North Main Street\, Tooele
X-ALT-DESC;FMTTYPE=text/html:<p>\n	<span style="font-size: 22px"><span style="color: #800080"><u>Ribbon Cutting</u></span><br />\n	Tuesday\, October 9\,2012<br />\n	5:30 pm<br />\n	Tooele Valley Academy of Dance<br />\n	291 North Main Street\, Tooele</span></p>\n
LOCATION:
UID:e.125.4932
SEQUENCE:3
DTSTAMP:20260421T052055Z
URL:https://members.tooelechamber.com/events/details/ribbon-cutting-10-09-2012-4932
END:VEVENT

END:VCALENDAR
