BEGIN:VCALENDAR
VERSION:2.0
PRODID:-//ChamberMaster//Event Calendar 2.0//EN
METHOD:PUBLISH
X-PUBLISHED-TTL:P3D
REFRESH-INTERVAL:P3D
CALSCALE:GREGORIAN
BEGIN:VEVENT
DTSTART:20121012T180000Z
DTEND:20121012T190000Z
X-MICROSOFT-CDO-ALLDAYEVENT:FALSE
SUMMARY:Ribbon Cutting
DESCRIPTION:HERITAGE HOMES & FIREPLACES\n\n\n\nFriday\, October 12th\, 2012\n\n@ 12 (Noon)\n\n105 North Main Street\, Tooele
X-ALT-DESC;FMTTYPE=text/html:<span style="font-size: 20px"><span style="color: #b22222"><strong><u>HERITAGE HOMES &amp\; FIREPLACES</u></strong></span><br />\n<br />\nFriday\, October 12th\, 2012<br />\n@ 12 (Noon)<br />\n105 North Main Street\, Tooele</span><br />\n
LOCATION:
UID:e.125.4938
SEQUENCE:3
DTSTAMP:20260421T052048Z
URL:https://members.tooelechamber.com/events/details/ribbon-cutting-10-12-2012-4938
END:VEVENT

END:VCALENDAR
