BEGIN:VCALENDAR
VERSION:2.0
PRODID:-//ChamberMaster//Event Calendar 2.0//EN
METHOD:PUBLISH
X-PUBLISHED-TTL:P3D
REFRESH-INTERVAL:P3D
CALSCALE:GREGORIAN
BEGIN:VEVENT
DTSTART:20081015T160000Z
DTEND:20081015T160000Z
X-MICROSOFT-CDO-ALLDAYEVENT:FALSE
SUMMARY:Ribbon Cutting
DESCRIPTION:Wednesday\, October 15th\nDigidocs\n225 E. Main St\, Ste S\, Grantsville\nRibbon Cutting- 10 am\nOpen House- 11 am
X-ALT-DESC;FMTTYPE=text/html:<div><strong>&nbsp\;</strong></div><p style="text-align: center"><font face="Times New Roman" size="5">Wednesday\, October 15th<br />Digidocs<br />225 E. Main St\, Ste S\, Grantsville<br />Ribbon Cutting- 10 am<br />Open House- 11 am</font></p>
LOCATION:
UID:e.125.475
SEQUENCE:3
DTSTAMP:20260424T122412Z
URL:https://members.tooelechamber.com/events/details/ribbon-cutting-10-15-2008-475
END:VEVENT

END:VCALENDAR
