BEGIN:VCALENDAR
VERSION:2.0
PRODID:-//ChamberMaster//Event Calendar 2.0//EN
METHOD:PUBLISH
X-PUBLISHED-TTL:P3D
REFRESH-INTERVAL:P3D
CALSCALE:GREGORIAN
BEGIN:VEVENT
DTSTART:20081030T173000Z
DTEND:20081030T180000Z
X-MICROSOFT-CDO-ALLDAYEVENT:FALSE
SUMMARY:Ribbon Cutting
DESCRIPTION:Thursday\, October 30th\nCCSC Enterprises\n7 So. Main St\, Tooele\nRibbon Cutting @ 11:30 am
X-ALT-DESC;FMTTYPE=text/html:<div align="center"><font size="4">Thursday\,&nbsp\;October 30th<br />CCSC Enterprises<br />7 So. Main&nbsp\;St\, Tooele<br />Ribbon Cutting @ 11:30 am</font></div>
LOCATION:
UID:e.125.474
SEQUENCE:3
DTSTAMP:20260424T104559Z
URL:https://members.tooelechamber.com/events/details/ribbon-cutting-10-30-2008-474
END:VEVENT

END:VCALENDAR
