BEGIN:VCALENDAR
VERSION:2.0
PRODID:-//ChamberMaster//Event Calendar 2.0//EN
METHOD:PUBLISH
X-PUBLISHED-TTL:P3D
REFRESH-INTERVAL:P3D
CALSCALE:GREGORIAN
BEGIN:VEVENT
DTSTART:20121030T210000Z
DTEND:20121030T220000Z
X-MICROSOFT-CDO-ALLDAYEVENT:FALSE
SUMMARY:Ribbon Cutting
DESCRIPTION:Ribbon Cutting\n\n	Tuesday\, October 30\, 2012\n\n	@3:00pm\n\n	@ St. Marguerite Catholic School\n\n	15 S. 7th St\, Tooele\, Utah 84074\n\n	 \n\n	 \n\n	Click here to edit...
X-ALT-DESC;FMTTYPE=text/html:<div style="color: gray">\n	&nbsp\;<span style="font-weight: bold\; text-decoration: underline\; text-underline: single\; language: en-us"><span style="font-size: 16pt"><span style="color: blue"><span style="font-family: arial">Ribbon Cutting</span></span></span></span><br />\n	<span style="language: en-us"><span style="font-size: 16pt"><span style="font-family: arial">Tuesday\, October 30\, 2012<br />\n	@3:00pm</span></span></span><br />\n	<span style="font-weight: normal\; language: en-us"><span style="font-size: 16pt"><span style="color: black"><span style="font-family: arial">@ St. Marguerite Catholic School</span></span></span></span><br />\n	<span style="font-weight: normal\; language: en-us"><span style="font-size: 16pt"><span style="color: black"><span style="font-family: arial">15 S. 7th St\, Tooele\, Utah 84074</span></span></span></span><br />\n	<span style="language: en-us"><span style="font-size: 16pt"><span style="font-family: arial">&nbsp\;</span></span></span><br />\n	&nbsp\;<br />\n	Click here to edit...</div>\n
LOCATION:
UID:e.125.4939
SEQUENCE:3
DTSTAMP:20260421T051501Z
URL:https://members.tooelechamber.com/events/details/ribbon-cutting-10-30-2012-4939
END:VEVENT

END:VCALENDAR
