BEGIN:VCALENDAR
VERSION:2.0
PRODID:-//ChamberMaster//Event Calendar 2.0//EN
METHOD:PUBLISH
X-PUBLISHED-TTL:P3D
REFRESH-INTERVAL:P3D
CALSCALE:GREGORIAN
BEGIN:VEVENT
DTSTART:20091103T190000Z
DTEND:20091103T190000Z
X-MICROSOFT-CDO-ALLDAYEVENT:FALSE
SUMMARY:Ribbon Cutting
DESCRIPTION:Ribbon Cutting Tuesday\, November 3rd - Noon\nDiamond Jane's Assisted Living\n345 S. Hale St.\, Grantsville
X-ALT-DESC;FMTTYPE=text/html:<div><span style="font-family: Times New Roman"><span style="font-size: small"><span style=""><span style=""><span style=""><strong>Ribbon Cutting&nbsp\;</strong></span></span></span></span></span></div><div><span style="font-weight: 700"><font face="Times New Roman"><span style="font-weight: 700\; font-size: 11pt">Tuesday\, November 3rd - Noon<br /><font color="#ff0000">Diamond Jane&rsquo\;s Assisted Living</font><br />345 S. Hale St.\, Grantsville</span></font></span></div>
LOCATION:
UID:e.125.2583
SEQUENCE:3
DTSTAMP:20260423T134038Z
URL:https://members.tooelechamber.com/events/details/ribbon-cutting-11-03-2009-2583
END:VEVENT

END:VCALENDAR
